BEGIN:VCALENDAR
VERSION:2.0
PRODID:-//South Fork Natural History Museum &amp; Nature Center - ECPv6.11.0.1//NONSGML v1.0//EN
CALSCALE:GREGORIAN
METHOD:PUBLISH
X-WR-CALNAME:South Fork Natural History Museum &amp; Nature Center
X-ORIGINAL-URL:https://sofo.org
X-WR-CALDESC:Events for South Fork Natural History Museum &amp; Nature Center
REFRESH-INTERVAL;VALUE=DURATION:PT1H
X-Robots-Tag:noindex
X-PUBLISHED-TTL:PT1H
BEGIN:VTIMEZONE
TZID:America/New_York
BEGIN:DAYLIGHT
TZOFFSETFROM:-0500
TZOFFSETTO:-0400
TZNAME:EDT
DTSTART:20230312T070000
END:DAYLIGHT
BEGIN:STANDARD
TZOFFSETFROM:-0400
TZOFFSETTO:-0500
TZNAME:EST
DTSTART:20231105T060000
END:STANDARD
END:VTIMEZONE
BEGIN:VEVENT
DTSTART;TZID=America/New_York:20230708T100000
DTEND;TZID=America/New_York:20230708T120000
DTSTAMP:20260419T125524
CREATED:20230625T135745Z
LAST-MODIFIED:20230703T175651Z
UID:25677-1688810400-1688817600@sofo.org
SUMMARY:Young Environmentalists Society (YES!) Presents: A FREE Sculpey Clay Class\, Featuring Animals with Sculpey Clay Artist\, Ruby Jackson
DESCRIPTION:Join sculptor Ruby in a Sculpey clay class to make small\, colorful animals.  This class is inspired by the National Geographic photographer\, Joel Sartore\, who took a photo of every animal species on the planet earth. Using his photos and your imagination\, you can create your own small\, clay animal.  Ruby will show you how to mix clay colors\, make an armature\, use tools for texture\, and more. \nProgram Leader: Ruby Jackson\, assisted by Mare Dianora\, SOFO’s Young Environmentalists Society Director  \nThis FREE two-hour program is for children ages 5 and older. \n  \nSign Up Here!
URL:https://sofo.org/calendar/young-environmentalists-society-yes-presents-a-free-sculpey-clay-class-featuring-animals-with-sculpey-clay-artist-ruby-jackson/
LOCATION:SOFO
ATTACH;FMTTYPE=image/jpeg:https://sofo.org/wp-content/uploads/2023/06/sculpyanimals-scaled.jpg
END:VEVENT
BEGIN:VEVENT
DTSTART;TZID=America/New_York:20230706T163000
DTEND;TZID=America/New_York:20230706T173000
DTSTAMP:20260419T125524
CREATED:20230625T153655Z
LAST-MODIFIED:20230627T201333Z
UID:25719-1688661000-1688664600@sofo.org
SUMMARY:Zenergy\, Outdoor Movement Class with Karen Meyer
DESCRIPTION:A delightful combination of Yoga-like stretches\, Qi Gong\, 5 element dance\, and a lot of joy!  Life Lovers of all ability levels are encouraged to join. Breath\, stretch\, move\, listen and relate. Be in right relationship to self\, to others\, and to Nature. Feel alive\, relaxed and Zenergized! \nThese classes will be held outside embraced by the beauty of Nature\, on a wooden deck\, protected from the sun. Please wear comfortable clothing and bring a yoga mat. \nThe one-hour classes will be held on Mondays and Thursdays at 4:30PM\, through the months of July\, August\, and September. \nThis program is for adults. \nZenergy Leader: Karen Meyer \n \n  \n  \n  \n  \nSofo Members: $10 per class\, Non-Members: $20 per class. \nLimited reservations. Please contact Karen directly if you have any questions\, and to make reservations. She can be reached at 917.843.2555 or at moonheartmeyer@gmail.com.
URL:https://sofo.org/calendar/zenergy-outdoor-movement-class-with-karen-meyer/
LOCATION:SOFO
ATTACH;FMTTYPE=image/jpeg:https://sofo.org/wp-content/uploads/2023/06/outdoor-meditation-e1690228758449.jpg
END:VEVENT
BEGIN:VEVENT
DTSTART;TZID=America/New_York:20230703T210000
DTEND;TZID=America/New_York:20230703T210000
DTSTAMP:20260419T125524
CREATED:20230622T135919Z
LAST-MODIFIED:20230703T175446Z
UID:25624-1688418000-1688418000@sofo.org
SUMMARY:FREE: Full Buck Super Moon Hike with Friends of the Long Pond Greenbelt (FLPG)
DESCRIPTION:Join FLPG and SOFO on a leisurely-paced one hour hike through open-field trails. The July full moon is named the “Buck Moon” as it is normally the month when the new antlers of buck deer push out of their foreheads in coatings of velvety fur. \nHike Leader: Dai Dayton\, President\, Friends of the Long Pond Greenbelt \nThis FREE program is for all ages. \nTo register please email:  greenbeltnews@aol.com.
URL:https://sofo.org/calendar/free-full-buck-super-moon-hike-with-friends-of-the-long-pond-greenbelt-flpg/
LOCATION:SOFO
ATTACH;FMTTYPE=image/jpeg:https://sofo.org/wp-content/uploads/2023/06/Full-Moon.jpg
END:VEVENT
BEGIN:VEVENT
DTSTART;TZID=America/New_York:20230703T103000
DTEND;TZID=America/New_York:20230703T103000
DTSTAMP:20260419T125524
CREATED:20230622T135128Z
LAST-MODIFIED:20230703T175248Z
UID:25620-1688380200-1688380200@sofo.org
SUMMARY:Meet the Martins─the Purple Martins\, with John Shemilt
DESCRIPTION:Join us at SOFO to see and interact with this year’s brood of purple martins devotedly cared for by our Purple Martin Steward\, John Shemilt. He will lower the gourds and give program participants an opportunity to hold a just-hatched nestling. \nTo learn about John’s appreciation of purple martins\, the following is an interview he did with Christopher Gangemi of The East Hampton Star in June of last year. Read the article here! \nFor nonmembers\, there is a $15 fee for Adults and $10 fee for children for this program. This program fee will also provide non-members with free admission to the museum on a day of their choice. Members are free. Advanced reservations are required for all events. \n  \nSign Up Here!
URL:https://sofo.org/calendar/meet-the-martins%e2%94%80the-purple-martins-with-john-shemilt/
LOCATION:SOFO
ATTACH;FMTTYPE=image/jpeg:https://sofo.org/wp-content/uploads/2023/06/meet-the-martins-e1687809606573.jpg
END:VEVENT
BEGIN:VEVENT
DTSTART;TZID=America/New_York:20230701T100000
DTEND;TZID=America/New_York:20230701T100000
DTSTAMP:20260419T125524
CREATED:20230628T185725Z
LAST-MODIFIED:20230703T182727Z
UID:25874-1688205600-1688205600@sofo.org
SUMMARY:Tour of the Town of East Hampton Shellfish Nursery
DESCRIPTION:Postponed from June 24th for weather.   \nIn this tour of the Town of East Hampton’s shellfish nursery you’ll learn how the  culture of shellfish is done. and have a hands-on tour of the public oyster garden and see how it works.  The tour will include both the land-based and floating nursery\, where millions of oysters\, clams and scallops are grown annually. You’ll also hear about how the public oyster gardening program works. \nTour Leader: Marissa Velasquez-Rosante \nThis is a FREE program. Advanced reservations are required for all events. \n  \nSign Up Here!
URL:https://sofo.org/calendar/tour-of-the-town-of-east-hampton-shellfish-nursery/
LOCATION:East Hampton
ATTACH;FMTTYPE=image/jpeg:https://sofo.org/wp-content/uploads/2023/06/East-hampton-Shellfish-hatchery-e1687978608924.jpg
END:VEVENT
BEGIN:VEVENT
DTSTART;TZID=America/New_York:20230701T090000
DTEND;TZID=America/New_York:20230701T090000
DTSTAMP:20260419T125524
CREATED:20230622T132708Z
LAST-MODIFIED:20230703T175031Z
UID:25610-1688202000-1688202000@sofo.org
SUMMARY:Observing Ospreys
DESCRIPTION:Since their eggs hatched in late May or early June\, osprey parents have been raising their young. The female does most of the incubating or sitting on the eggs\, and the male has been busy catching fish for all of them. By early July\, the oldest osprey chicks are big enough to start exercising their wing muscles while still on their nest. By late July\, with their parents perched in a nearby tree whistling encouragement to the young birds\, they begin to fly off the nest under their own wing power. If we are lucky\, we may see a fledgling stretching its wings on the edge of its nest! \nProgram Leader: Melanie Meade\, SOFO Director of Education \nThis program is for adults\, teens\, and children ages 8 and older. \nFor nonmembers\, there is a $15 fee for Adults and $10 fee for children for this program. This program fee will also provide non-members with free admission to the museum on a day of their choice. Members are free. Advanced reservations are required for all events. \n  \nSign Up Here!
URL:https://sofo.org/calendar/observing-ospreys/
LOCATION:Sag Harbor
ATTACH;FMTTYPE=image/jpeg:https://sofo.org/wp-content/uploads/2023/06/osprey-pair-scaled.jpg
END:VEVENT
END:VCALENDAR