BEGIN:VCALENDAR
VERSION:2.0
PRODID:-//South Fork Natural History Museum &amp; Nature Center - ECPv6.11.0.1//NONSGML v1.0//EN
CALSCALE:GREGORIAN
METHOD:PUBLISH
X-WR-CALNAME:South Fork Natural History Museum &amp; Nature Center
X-ORIGINAL-URL:https://sofo.org
X-WR-CALDESC:Events for South Fork Natural History Museum &amp; Nature Center
REFRESH-INTERVAL;VALUE=DURATION:PT1H
X-Robots-Tag:noindex
X-PUBLISHED-TTL:PT1H
BEGIN:VTIMEZONE
TZID:America/New_York
BEGIN:DAYLIGHT
TZOFFSETFROM:-0500
TZOFFSETTO:-0400
TZNAME:EDT
DTSTART:20260308T070000
END:DAYLIGHT
BEGIN:STANDARD
TZOFFSETFROM:-0400
TZOFFSETTO:-0500
TZNAME:EST
DTSTART:20261101T060000
END:STANDARD
END:VTIMEZONE
BEGIN:VEVENT
DTSTART;TZID=America/New_York:20260520T100000
DTEND;TZID=America/New_York:20260520T130000
DTSTAMP:20260422T103204
CREATED:20260415T153955Z
LAST-MODIFIED:20260415T153955Z
UID:40183-1779271200-1779282000@sofo.org
SUMMARY:MUSEUM CLOSED: School Group (10 am - 1 pm)
DESCRIPTION:
URL:https://sofo.org/calendar/museum-closed-school-group-10-am-1-pm-45/
ATTACH;FMTTYPE=image/png:https://sofo.org/wp-content/uploads/2024/04/closed-for-school-group-10-1-1-e1742656859211.png
END:VEVENT
BEGIN:VEVENT
DTSTART;TZID=America/New_York:20260520T130000
DTEND;TZID=America/New_York:20260520T150000
DTSTAMP:20260422T103204
CREATED:20260402T161936Z
LAST-MODIFIED:20260402T162528Z
UID:40139-1779282000-1779289200@sofo.org
SUMMARY:East End Outdoor Nature Education at Elizabeth Morton Wildlife Refuge
DESCRIPTION:SOFO is offering a monthly program which will take place on the 3rd Wednesday of the month at 1 pm geared towards homeschooling families. Programs will have a variety of activities to strengthen language development\, literacy\, math\, and science and will take place at various locations on Eastern Long Island. \nWe will continue our adventures on Wednesday\, May 20th at Elizabeth Morton Federal Wildlife Refuge in Southampton where we will learn about our local songbirds and late spring flowers on our way to a bay beach for shelling and shore birds. We will enjoy some fun stories\, simple nature journals\, beginner graphing and worksheets to take home. \nProgram Leader: Crystal Possehl-Oakes has worked as an environmental educator at SOFO since 2005 and part-time since 2019 after her son Wyatt was born. “Wyatt and I look forward to meeting you and learning with you!” \nThere is a $10/child material fee (participating adult included) for this program. This program fee will also provide non-members with free admission to the museum on a day of their choice. Advanced reservations are required for all events. \n\n Sign Up Here!
URL:https://sofo.org/calendar/east-end-outdoor-nature-education-at-elizabeth-morton-wildlife-refuge-2/
LOCATION:SOFO
ATTACH;FMTTYPE=image/png:https://sofo.org/wp-content/uploads/2025/07/eeone-elizabeth-morton.png
END:VEVENT
END:VCALENDAR