BEGIN:VCALENDAR
VERSION:2.0
PRODID:-//South Fork Natural History Museum &amp; Nature Center - ECPv6.11.0.1//NONSGML v1.0//EN
CALSCALE:GREGORIAN
METHOD:PUBLISH
X-WR-CALNAME:South Fork Natural History Museum &amp; Nature Center
X-ORIGINAL-URL:https://sofo.org
X-WR-CALDESC:Events for South Fork Natural History Museum &amp; Nature Center
REFRESH-INTERVAL;VALUE=DURATION:PT1H
X-Robots-Tag:noindex
X-PUBLISHED-TTL:PT1H
BEGIN:VTIMEZONE
TZID:America/New_York
BEGIN:DAYLIGHT
TZOFFSETFROM:-0500
TZOFFSETTO:-0400
TZNAME:EDT
DTSTART:20260308T070000
END:DAYLIGHT
BEGIN:STANDARD
TZOFFSETFROM:-0400
TZOFFSETTO:-0500
TZNAME:EST
DTSTART:20261101T060000
END:STANDARD
END:VTIMEZONE
BEGIN:VEVENT
DTSTART;TZID=America/New_York:20260321T110000
DTEND;TZID=America/New_York:20260321T110000
DTSTAMP:20260421T055654
CREATED:20260105T202704Z
LAST-MODIFIED:20260306T191418Z
UID:39917-1774090800-1774090800@sofo.org
SUMMARY:SOFO’s Bug Club: Bugwatching Buddies
DESCRIPTION:This Week: National Learn About Butterflies Day. \nTo celebrate the wonderful world of butterflies\, let’s prepare for the coming spring season and plant some native wildflowers! Learn where butterflies come from in the springtime\, which flowers they like best\, and which butterflies we can expect to see in our gardens. Attendees will take home their own planted native wildflower seeds. \nClub Leader: Moe Kennedy\, SOFO Environmental Educator \nThis FREE program is for ages 5-16. Advanced reservations are required for all events. \n  \n Sign Up Here!\n 
URL:https://sofo.org/calendar/sofos-bug-club-bugwatching-buddies-3/
LOCATION:SOFO
ATTACH;FMTTYPE=image/png:https://sofo.org/wp-content/uploads/2026/01/bugwatching-club.png
END:VEVENT
BEGIN:VEVENT
DTSTART;TZID=America/New_York:20260321T190000
DTEND;TZID=America/New_York:20260321T190000
DTSTAMP:20260421T055654
CREATED:20260105T202324Z
LAST-MODIFIED:20260316T181905Z
UID:39915-1774119600-1774119600@sofo.org
SUMMARY:Young Birders Club Walk with Aidan Perkins
DESCRIPTION:Birding is a great way to make new friends\, learn about the environment\, and get outdoors. Join our Young Birders Club! The Club meets at 10AM on the third Saturday of every month and is open to anyone ages 8 to 18 who is interested in learning about birds. Since Long Island has many great habitats that are home to a wide variety of species\, we concentrate on birding in local areas. Please bring binoculars if you have them (we will have a few pairs to lend) and a field guide to birds of the eastern United States. If you don’t have a field guide\, we’ll have one here for you to use. \nClub Leader: Aidan Perkins\, Wildlife Biologist \nThis FREE program is for children and young adults ages 8-18. Advanced reservations are required for all events. \n  \n Sign Up Here!\n 
URL:https://sofo.org/calendar/young-birders-club-walk-with-aidan-perkins-2/
ATTACH;FMTTYPE=image/png:https://sofo.org/wp-content/uploads/2026/01/Perkins-YBC.png
END:VEVENT
BEGIN:VEVENT
DTSTART;TZID=America/New_York:20260321T200000
DTEND;TZID=America/New_York:20260321T200000
DTSTAMP:20260421T055654
CREATED:20260105T195050Z
LAST-MODIFIED:20260318T180344Z
UID:39911-1774123200-1774123200@sofo.org
SUMMARY:Annual Blue-spotted Salamander Search
DESCRIPTION:Montauk’s vernal ponds are some of the few places in the world where the Blue-spotted Salamander\, in its purebred form\, can be found. Join SOFO on this nighttime expedition as we search for this unique native species. Please bring a flashlight and wear boots\, as late winter rains will make the ground soggy. This walk will take place only if there have been heavy rains. \nWalk Leader: South Fork Natural History Museum \nThis program is for adults and children ages 6+. \nFor non-members\, there is a $5 fee per person for this program. Members are free. Advanced reservations are required for all events. \n  \n Sign Up Here!\n 
URL:https://sofo.org/calendar/annual-blue-spotted-salamander-search/
LOCATION:Montauk
ATTACH;FMTTYPE=image/png:https://sofo.org/wp-content/uploads/2026/01/blue-spotted-salamander-grass-1.png
END:VEVENT
END:VCALENDAR