BEGIN:VCALENDAR
VERSION:2.0
PRODID:-//South Fork Natural History Museum &amp; Nature Center - ECPv6.11.0.1//NONSGML v1.0//EN
CALSCALE:GREGORIAN
METHOD:PUBLISH
X-WR-CALNAME:South Fork Natural History Museum &amp; Nature Center
X-ORIGINAL-URL:https://sofo.org
X-WR-CALDESC:Events for South Fork Natural History Museum &amp; Nature Center
REFRESH-INTERVAL;VALUE=DURATION:PT1H
X-Robots-Tag:noindex
X-PUBLISHED-TTL:PT1H
BEGIN:VTIMEZONE
TZID:America/New_York
BEGIN:DAYLIGHT
TZOFFSETFROM:-0500
TZOFFSETTO:-0400
TZNAME:EDT
DTSTART:20250309T070000
END:DAYLIGHT
BEGIN:STANDARD
TZOFFSETFROM:-0400
TZOFFSETTO:-0500
TZNAME:EST
DTSTART:20251102T060000
END:STANDARD
END:VTIMEZONE
BEGIN:VEVENT
DTSTART;TZID=America/New_York:20250907T193000
DTEND;TZID=America/New_York:20250907T203000
DTSTAMP:20260423T042652
CREATED:20250723T174321Z
LAST-MODIFIED:20250723T174321Z
UID:39571-1757273400-1757277000@sofo.org
SUMMARY:Full Harvest Moon Hike
DESCRIPTION:This full moon’s name is attributed to Native Americans because it marked when corn was to be harvested. At the peak of harvest\, farmers can work late into the night by the light of this moon. Join Friends of the Long Pond Greenbelt and SOFO on this one-hour\, leisurely-paced hike through open-field trails. \nCo-sponsored by Friends of the Long Pond Greenbelt & the South Fork Natural History Museum (SOFO). \nMeet at the SOFO Museum parking lot\, 377 Bridgehampton Turnpike\, 200 yards north of the RR tracks. To register\, email: greenbeltnews@aol.com. \nHike Leader: Jean McDermott\, 631-599-2391.
URL:https://sofo.org/calendar/full-harvest-moon-hike/
LOCATION:SOFO
ATTACH;FMTTYPE=image/jpeg:https://sofo.org/wp-content/uploads/2025/07/Full-Moon.jpg
END:VEVENT
END:VCALENDAR