BEGIN:VCALENDAR
VERSION:2.0
PRODID:-//South Fork Natural History Museum &amp; Nature Center - ECPv6.11.0.1//NONSGML v1.0//EN
CALSCALE:GREGORIAN
METHOD:PUBLISH
X-WR-CALNAME:South Fork Natural History Museum &amp; Nature Center
X-ORIGINAL-URL:https://sofo.org
X-WR-CALDESC:Events for South Fork Natural History Museum &amp; Nature Center
REFRESH-INTERVAL;VALUE=DURATION:PT1H
X-Robots-Tag:noindex
X-PUBLISHED-TTL:PT1H
BEGIN:VTIMEZONE
TZID:America/New_York
BEGIN:DAYLIGHT
TZOFFSETFROM:-0500
TZOFFSETTO:-0400
TZNAME:EDT
DTSTART:20250309T070000
END:DAYLIGHT
BEGIN:STANDARD
TZOFFSETFROM:-0400
TZOFFSETTO:-0500
TZNAME:EST
DTSTART:20251102T060000
END:STANDARD
END:VTIMEZONE
BEGIN:VEVENT
DTSTART;TZID=America/New_York:20250828T110000
DTEND;TZID=America/New_York:20250828T130000
DTSTAMP:20260425T131257
CREATED:20250715T143358Z
LAST-MODIFIED:20250826T172313Z
UID:39545-1756378800-1756386000@sofo.org
SUMMARY:Oyster Farming on the Water: Boat Tour & Oyster Seeding
DESCRIPTION:This program has reached maximum capacity. Please contact the museum at 631-537-9735 to join the waitlist. \n  \nJoin CCOM\, EHSEED\, and SOFO for a boat cruise on the bay and help local shellfish populations by seeding oysters onto suitable bottom. Please dress for wet and windy conditions. Rain date: Wednesday\, September 3.  \nCo-sponsored by Concerned Citizens of Montauk (CCOM)\, East Hampton Town Shellfish Hatchery (EHSEED) and SOFO. \nProgram Leader: Rebecca Rogers\, SOFO Environmental Educator\, CCOM staff\, and EHSEED staff \nThis FREE program is for adults\, teens\, and children ages . Advanced reservations are required for all events. \n 
URL:https://sofo.org/calendar/oyster-farming-on-the-water-boat-tour-oyster-seeding/
END:VEVENT
END:VCALENDAR