BEGIN:VCALENDAR
VERSION:2.0
PRODID:-//South Fork Natural History Museum &amp; Nature Center - ECPv6.11.0.1//NONSGML v1.0//EN
CALSCALE:GREGORIAN
METHOD:PUBLISH
X-WR-CALNAME:South Fork Natural History Museum &amp; Nature Center
X-ORIGINAL-URL:https://sofo.org
X-WR-CALDESC:Events for South Fork Natural History Museum &amp; Nature Center
REFRESH-INTERVAL;VALUE=DURATION:PT1H
X-Robots-Tag:noindex
X-PUBLISHED-TTL:PT1H
BEGIN:VTIMEZONE
TZID:America/New_York
BEGIN:DAYLIGHT
TZOFFSETFROM:-0500
TZOFFSETTO:-0400
TZNAME:EDT
DTSTART:20250309T070000
END:DAYLIGHT
BEGIN:STANDARD
TZOFFSETFROM:-0400
TZOFFSETTO:-0500
TZNAME:EST
DTSTART:20251102T060000
END:STANDARD
END:VTIMEZONE
BEGIN:VEVENT
DTSTART;TZID=America/New_York:20250722T150000
DTEND;TZID=America/New_York:20250722T160000
DTSTAMP:20260425T084324
CREATED:20250603T201325Z
LAST-MODIFIED:20250603T201325Z
UID:39426-1753196400-1753200000@sofo.org
SUMMARY:Root to Rise: Outdoor Gentle Yoga with Karen Meyer
DESCRIPTION:Root your feet on the earth. \nLengthen your spine\, open your heart\, and rise to the heavens. \nAllow your breath to guide you through gentle yoga movements as you connect to your body\, mind\, and spirit. \n  \nEveryone is welcome\, regardless of yoga experience. Adults only.\n$20 per class\, $10 for SOFO members.\nReservations are required.\nRSVP to Karen: MoonheartMeyer@gmail.com.\nClasses take place on the wooden deck\, protected from the elements.
URL:https://sofo.org/calendar/root-to-rise-outdoor-gentle-yoga-with-karen-meyer-7/
LOCATION:SOFO
END:VEVENT
END:VCALENDAR