BEGIN:VCALENDAR
VERSION:2.0
PRODID:-//South Fork Natural History Museum &amp; Nature Center - ECPv6.11.0.1//NONSGML v1.0//EN
CALSCALE:GREGORIAN
METHOD:PUBLISH
X-ORIGINAL-URL:https://sofo.org
X-WR-CALDESC:Events for South Fork Natural History Museum &amp; Nature Center
REFRESH-INTERVAL;VALUE=DURATION:PT1H
X-Robots-Tag:noindex
X-PUBLISHED-TTL:PT1H
BEGIN:VTIMEZONE
TZID:America/New_York
BEGIN:DAYLIGHT
TZOFFSETFROM:-0500
TZOFFSETTO:-0400
TZNAME:EDT
DTSTART:20250309T070000
END:DAYLIGHT
BEGIN:STANDARD
TZOFFSETFROM:-0400
TZOFFSETTO:-0500
TZNAME:EST
DTSTART:20251102T060000
END:STANDARD
END:VTIMEZONE
BEGIN:VEVENT
DTSTART;TZID=America/New_York:20250629T103000
DTEND;TZID=America/New_York:20250629T103000
DTSTAMP:20260425T225109
CREATED:20250429T145021Z
LAST-MODIFIED:20250501T164421Z
UID:39348-1751193000-1751193000@sofo.org
SUMMARY:“Terrific Turtles” Story Time with Crystal
DESCRIPTION:The turtles are on the move in our backyards\, ponds\, and even in the nearby salt marshes! Join us for some fun stories to learn about our turtle neighbors and learn how to help our turtle neighbor as you meet some of SOFO’s resident turtles. \nProgram Leader: Crystal Possehl-Oakes\, SOFO Environmental Outdoor Education Specialist \nThis program is for children ages 3-7. \nFor non-members\, this program is included in the museum admission fee. Members are free. Advanced reservations are required for all events. \n  \n Sign Up Here!\n 
URL:https://sofo.org/calendar/terrific-turtles-story-time-with-crystal/
LOCATION:SOFO
ATTACH;FMTTYPE=image/png:https://sofo.org/wp-content/uploads/2025/04/storytime-box-turtle.png
END:VEVENT
BEGIN:VEVENT
DTSTART;TZID=America/New_York:20250629T133000
DTEND;TZID=America/New_York:20250629T133000
DTSTAMP:20260425T225109
CREATED:20250429T145147Z
LAST-MODIFIED:20250501T164920Z
UID:39350-1751203800-1751203800@sofo.org
SUMMARY:“Terrific Turtles” Story Time with Crystal
DESCRIPTION:The turtles are on the move in our backyards\, ponds\, and even in the nearby salt marshes! Join us for some fun stories to learn about our turtle neighbors and learn how to help our turtle neighbor as you meet some of SOFO’s resident turtles. \nProgram Leader: Crystal Possehl-Oakes\, SOFO Environmental Outdoor Education Specialist \nThis program is for children ages 3-7. \nFor non-members\, this program is included in the museum admission fee. Members are free. Advanced reservations are required for all events. \n  \n Sign Up Here!\n 
URL:https://sofo.org/calendar/terrific-turtles-story-time-with-crystal-2/
LOCATION:SOFO
ATTACH;FMTTYPE=image/png:https://sofo.org/wp-content/uploads/2025/04/storytime-box-turtle-1.png
END:VEVENT
END:VCALENDAR