BEGIN:VCALENDAR
VERSION:2.0
PRODID:-//South Fork Natural History Museum &amp; Nature Center - ECPv6.11.0.1//NONSGML v1.0//EN
CALSCALE:GREGORIAN
METHOD:PUBLISH
X-ORIGINAL-URL:https://sofo.org
X-WR-CALDESC:Events for South Fork Natural History Museum &amp; Nature Center
REFRESH-INTERVAL;VALUE=DURATION:PT1H
X-Robots-Tag:noindex
X-PUBLISHED-TTL:PT1H
BEGIN:VTIMEZONE
TZID:America/New_York
BEGIN:DAYLIGHT
TZOFFSETFROM:-0500
TZOFFSETTO:-0400
TZNAME:EDT
DTSTART:20250309T070000
END:DAYLIGHT
BEGIN:STANDARD
TZOFFSETFROM:-0400
TZOFFSETTO:-0500
TZNAME:EST
DTSTART:20251102T060000
END:STANDARD
END:VTIMEZONE
BEGIN:VEVENT
DTSTART;TZID=America/New_York:20250525T103000
DTEND;TZID=America/New_York:20250525T103000
DTSTAMP:20260421T052839
CREATED:20250412T152254Z
LAST-MODIFIED:20250430T183411Z
UID:39278-1748169000-1748169000@sofo.org
SUMMARY:“Fantastic Flowers” Story Time with Crystal
DESCRIPTION:A common saying goes “April showers bring May flowers.” Flowers add lots of color to our spring and summer\, and bring many people enjoyment\, but what is a flower for and what is it made of? Join us for some fun stories before we see what is flowering in SOFO’s pollinator gardens and learn how the different flower parts help the plant and animals. \nProgram Leader: Crystal Possehl-Oakes\, SOFO Environmental Outdoor Education Specialist \nThis program is for children ages 3-7. \nFor non-members\, this program is included in the museum admission fee. Members are free. Advanced reservations are required for all events. \n  \n Sign Up Here!\n 
URL:https://sofo.org/calendar/fantastic-flowers-story-time-with-crystal/
LOCATION:SOFO
ATTACH;FMTTYPE=image/png:https://sofo.org/wp-content/uploads/2025/04/storytime-flowers.png
END:VEVENT
BEGIN:VEVENT
DTSTART;TZID=America/New_York:20250525T133000
DTEND;TZID=America/New_York:20250525T133000
DTSTAMP:20260421T052839
CREATED:20250412T152403Z
LAST-MODIFIED:20250430T183448Z
UID:39280-1748179800-1748179800@sofo.org
SUMMARY:“Fantastic Flowers” Story Time with Crystal
DESCRIPTION:A common saying goes “April showers bring May flowers.” Flowers add lots of color to our spring and summer\, and bring many people enjoyment\, but what is a flower for and what is it made of? Join us for some fun stories before we see what is flowering in SOFO’s pollinator gardens and learn how the different flower parts help the plant and animals. \nProgram Leader: Crystal Possehl-Oakes\, SOFO Environmental Outdoor Education Specialist \nThis program is for children ages 3-7. \nFor non-members\, this program is included in the museum admission fee. Members are free. Advanced reservations are required for all events. \n  \n Sign Up Here!\n 
URL:https://sofo.org/calendar/fantastic-flowers-story-time-with-crystal-2/
ATTACH;FMTTYPE=image/png:https://sofo.org/wp-content/uploads/2025/04/storytime-flowers-1.png
END:VEVENT
END:VCALENDAR