BEGIN:VCALENDAR
VERSION:2.0
PRODID:-//South Fork Natural History Museum &amp; Nature Center - ECPv6.11.0.1//NONSGML v1.0//EN
CALSCALE:GREGORIAN
METHOD:PUBLISH
X-WR-CALNAME:South Fork Natural History Museum &amp; Nature Center
X-ORIGINAL-URL:https://sofo.org
X-WR-CALDESC:Events for South Fork Natural History Museum &amp; Nature Center
REFRESH-INTERVAL;VALUE=DURATION:PT1H
X-Robots-Tag:noindex
X-PUBLISHED-TTL:PT1H
BEGIN:VTIMEZONE
TZID:America/New_York
BEGIN:DAYLIGHT
TZOFFSETFROM:-0500
TZOFFSETTO:-0400
TZNAME:EDT
DTSTART:20250309T070000
END:DAYLIGHT
BEGIN:STANDARD
TZOFFSETFROM:-0400
TZOFFSETTO:-0500
TZNAME:EST
DTSTART:20251102T060000
END:STANDARD
END:VTIMEZONE
BEGIN:VEVENT
DTSTART;TZID=America/New_York:20250510T090000
DTEND;TZID=America/New_York:20250510T090000
DTSTAMP:20260421T042748
CREATED:20250409T192422Z
LAST-MODIFIED:20250501T203312Z
UID:39238-1746867600-1746867600@sofo.org
SUMMARY:Memorial Nature Walk for Naturalist and SOFO Founder Larry Penny
DESCRIPTION:Larry Penny spent many years guiding children and adults in exploring and understanding our natural world. He was one of the original founders of the South Fork Natural History Society in 1989 and a noted East End naturalist and educator; his weekly column “Nature Notes” was featured in the East Hampton Star for many years. He served as East Hampton Town Natural Resources Director for 28 years. \nJoin us\, and experience nature for yourself\, in his memory. Light refreshments will be available. \n“He was a very good naturalist; I really admired him for his work\, his writing\, and his dedication to stopping development” ─ Andy Sabin\, SOFO Board of Directors President \nWalk Leader: Frank Quevedo\, SOFO Executive Director \nThis FREE program is for adults\, teens\, and children ages 8+. Advanced reservations are required for all events. \n  \n Sign Up Here!\n 
URL:https://sofo.org/calendar/memorial-nature-walk-for-naturalist-and-sofo-founder-larry-penny/
LOCATION:SOFO
ATTACH;FMTTYPE=image/png:https://sofo.org/wp-content/uploads/2025/04/memorial-walk.png
END:VEVENT
BEGIN:VEVENT
DTSTART;TZID=America/New_York:20250510T103000
DTEND;TZID=America/New_York:20250510T103000
DTSTAMP:20260421T042748
CREATED:20250410T154958Z
LAST-MODIFIED:20250410T154958Z
UID:39245-1746873000-1746873000@sofo.org
SUMMARY:Birding for Beginners
DESCRIPTION:Explore Birding as a new hobby: Take a walk with volunteer docents Cindy & Dave in the Vineyard Field behind the Museum and learn how to identify the birds that we might find\, including blue jay\, black-capped chickadee\, starling\, northern mockingbird and red-tailed hawk. Listen to the voices and observe the behavior of the birds to help identify them. No prior experience required. Bring binoculars if you have them. \nProgram Leader: Cindy Lenkiewicz and Dave Polek\, SOFO Docents \nThis FREE program is for adults\, teens\, and children ages 10+. Advanced reservations are required for all events. \n  \n Sign Up Here!\n 
URL:https://sofo.org/calendar/birding-for-beginners-2/
LOCATION:SOFO
ATTACH;FMTTYPE=image/png:https://sofo.org/wp-content/uploads/2025/04/birding-for-beginners-2.png
END:VEVENT
BEGIN:VEVENT
DTSTART;TZID=America/New_York:20250510T160000
DTEND;TZID=America/New_York:20250510T170000
DTSTAMP:20260421T042748
CREATED:20250407T141417Z
LAST-MODIFIED:20250502T190458Z
UID:39202-1746892800-1746896400@sofo.org
SUMMARY:East End Environment Series: Eastern Tiger Salamander Tracking Research Update
DESCRIPTION:This is the fourth lecture of our East End Environment Series! \nJoin SOFO for light refreshments and a presentation with SOFO’s Reptile & Amphibian Specialist Jake Kushner about SOFO’s Eastern tiger salamander tracking study. Over the past spring/summer\, Jake has been tracking Eastern tiger salamanders in the Long Pond Greenbelt using radio telemetry. This presentation will include a quick introduction to and demonstration of this important tracking technique\, followed by an update about the data collected thus far. \nPresenter: Jake Kushner\, SOFO Reptile & Amphibian Specialist \nThis program is for adults\, teens\, and children ages 10+. \n  \n Sign Up Here!\n 
URL:https://sofo.org/calendar/east-end-environment-series-eastern-tiger-salamander-tracking-research-update-2/
LOCATION:SOFO
ATTACH;FMTTYPE=image/png:https://sofo.org/wp-content/uploads/2025/04/eees-kushner-tracking.png
END:VEVENT
END:VCALENDAR