BEGIN:VCALENDAR
VERSION:2.0
PRODID:-//South Fork Natural History Museum &amp; Nature Center - ECPv6.11.0.1//NONSGML v1.0//EN
CALSCALE:GREGORIAN
METHOD:PUBLISH
X-ORIGINAL-URL:https://sofo.org
X-WR-CALDESC:Events for South Fork Natural History Museum &amp; Nature Center
REFRESH-INTERVAL;VALUE=DURATION:PT1H
X-Robots-Tag:noindex
X-PUBLISHED-TTL:PT1H
BEGIN:VTIMEZONE
TZID:America/New_York
BEGIN:DAYLIGHT
TZOFFSETFROM:-0500
TZOFFSETTO:-0400
TZNAME:EDT
DTSTART:20240310T070000
END:DAYLIGHT
BEGIN:STANDARD
TZOFFSETFROM:-0400
TZOFFSETTO:-0500
TZNAME:EST
DTSTART:20241103T060000
END:STANDARD
END:VTIMEZONE
BEGIN:VEVENT
DTSTART;TZID=America/New_York:20240614T080000
DTEND;TZID=America/New_York:20240614T080000
DTSTAMP:20260423T043922
CREATED:20240405T180834Z
LAST-MODIFIED:20240406T195207Z
UID:32276-1718352000-1718352000@sofo.org
SUMMARY:Birding with Joe Giunta─Breeding Warblers of Long Island
DESCRIPTION:Thirteen species of warblers have been recorded as breeders on Long Island; nine are confirmed breeders in one area in Montauk. Joe\, an experienced birder and delightful teacher\, will lead you on a search to find these active small songbirds and\, with luck\, you will hear them singing and possibly see them carrying food to their nests. \nWalk Leader: Joe Giunta\, birding instructor for the Brooklyn Botanic Garden\, trip leader for New York City Audubon and lecturer for many local chapters\, and owner of Happy Warblers LLC\, a birding and educational travel company. \nThis program is for adults. \nFor non-members\, there is a $15 fee for adults for this program. This program fee will also provide non-members with free admission to the museum on a day of their choice. Members are free. Advanced reservations are required for all events. \n  \n Sign Up Here!\n 
URL:https://sofo.org/calendar/birding-with-joe-giunta%e2%94%80breeding-warblers-of-long-island/
LOCATION:Montauk
ATTACH;FMTTYPE=image/jpeg:https://sofo.org/wp-content/uploads/2024/04/blue-winged-warbler.jpg
END:VEVENT
END:VCALENDAR