BEGIN:VCALENDAR
VERSION:2.0
PRODID:-//South Fork Natural History Museum &amp; Nature Center - ECPv6.11.0.1//NONSGML v1.0//EN
CALSCALE:GREGORIAN
METHOD:PUBLISH
X-ORIGINAL-URL:https://sofo.org
X-WR-CALDESC:Events for South Fork Natural History Museum &amp; Nature Center
REFRESH-INTERVAL;VALUE=DURATION:PT1H
X-Robots-Tag:noindex
X-PUBLISHED-TTL:PT1H
BEGIN:VTIMEZONE
TZID:America/New_York
BEGIN:DAYLIGHT
TZOFFSETFROM:-0500
TZOFFSETTO:-0400
TZNAME:EDT
DTSTART:20240310T070000
END:DAYLIGHT
BEGIN:STANDARD
TZOFFSETFROM:-0400
TZOFFSETTO:-0500
TZNAME:EST
DTSTART:20241103T060000
END:STANDARD
END:VTIMEZONE
BEGIN:VEVENT
DTSTART;TZID=America/New_York:20240517T130000
DTEND;TZID=America/New_York:20240517T150000
DTSTAMP:20260422T074233
CREATED:20240329T182240Z
LAST-MODIFIED:20240514T173227Z
UID:32088-1715950800-1715958000@sofo.org
SUMMARY:SOFO’s East End Outdoor Nature Education with Crystal at Sweezy Pond Preserve’s Cranberry Bog\, Riverhead
DESCRIPTION:*Please Note: This program has been postponed to Friday\, 5/17 at 1 pm due to wet weather in the forecast for Wednesday\, 5/15* \nSOFO is offering a monthly program which will take place on the 3rd Wednesday of the month and following Saturday at 1 pm for children ages 3 to 7 years and is geared toward homeschooling families. Programs will have a variety of activities to strengthen language development\, literacy\, math\, and science and will take place at various locations on Eastern Long Island. \nWe will continue our adventures on Wednesday May 15\, 2024\, exploring Cranberry Bog Nature Preserve trail around Sweezy Pond. We will focus on common wetland plants and animals\, hopefully finding some turtles or nesting signs\, and some stories\, simple nature journals\, and worksheets to take home. \nProgram Leader: Crystal Possehl-Oakes has worked as an environmental educator at SOFO since 2005 and part-time since 2019 after her son Wyatt was born. Wyatt and I look forward to meeting you and learning with you! \nThis program is for children ages 3-7. \n\nThere is a $10 per child admission/material fee\, which includes a participating adult. This program fee will also provide non-members with free admission to the museum on a day of their choice. Members are free. Advanced reservations are required for all events. \n\n  \n Sign Up Here!\n 
URL:https://sofo.org/calendar/sofos-east-end-outdoor-nature-education-with-crystal-at-sweezy-pond-preserves-cranberry-bog-riverhead/
LOCATION:Riverhead
ATTACH;FMTTYPE=image/png:https://sofo.org/wp-content/uploads/2024/03/cranberry-bog-riverhead.png
END:VEVENT
END:VCALENDAR